BEGIN:VCALENDAR
VERSION:2.0
PRODID:-//Tukios.com/
BEGIN:VEVENT
UID:5542a30e-9b26-41fa-b900-8b9d62b7f894@www.maconfuneralhome.com
DTSTAMP:20260423T103615Z
DTSTART:20260505T190000Z
DTEND:20260505T200000Z
SUMMARY:Memorial Service
DESCRIPTION:
URL:https://www.maconfuneralhome.com/obituaries/doris-heath
LOCATION:Grace Presbyterian Church 360 1st Street  Franklin NC 28734
GEO:35.1908185;-83.3672589
END:VEVENT
END:VCALENDAR