BEGIN:VCALENDAR
VERSION:2.0
PRODID:-//Tukios.com/
BEGIN:VEVENT
UID:44d1d1da-f840-4fc3-a1a3-20e407941579@www.maconfuneralhome.com
DTSTAMP:20260423T002101Z
DTSTART:20260424T200000Z
DTEND:20260424T220000Z
SUMMARY:Visitation
DESCRIPTION:
URL:https://www.maconfuneralhome.com/obituaries/ashley-vasallo
LOCATION:Macon Funeral Home 261 Iotla St  Franklin NC 28734
GEO:35.1854673;-83.3825401
END:VEVENT
END:VCALENDAR