BEGIN:VCALENDAR
VERSION:2.0
PRODID:-//Tukios.com/
BEGIN:VEVENT
UID:86f95b81-84c7-4c28-84b2-d95cb0d2bc2c@www.maconfuneralhome.com
DTSTAMP:20260423T002102Z
DTSTART:20260425T150000Z
DTEND:20260425T160000Z
SUMMARY:Celebration of Life
DESCRIPTION:
URL:https://www.maconfuneralhome.com/obituaries/alexander-pressley
LOCATION:Macon Funeral Home 261 Iotla St  Franklin NC 28734
GEO:35.1854673;-83.3825401
END:VEVENT
END:VCALENDAR