BEGIN:VCALENDAR
VERSION:2.0
PRODID:-//Tukios.com/
BEGIN:VEVENT
UID:ffad8132-283a-433d-b483-4bc28cb53630@www.maconfuneralhome.com
DTSTAMP:20260423T002101Z
DTSTART:20260425T140000Z
DTEND:20260425T150000Z
SUMMARY:Visitation
DESCRIPTION:
URL:https://www.maconfuneralhome.com/obituaries/alexander-pressley
LOCATION:Macon Funeral Home 261 Iotla St  Franklin NC 28734
GEO:35.1854673;-83.3825401
END:VEVENT
END:VCALENDAR